BEGIN:VCALENDAR
VERSION:2.0
PRODID:-//Tangosuerte - ECPv4.3.5//NONSGML v1.0//EN
CALSCALE:GREGORIAN
METHOD:PUBLISH
X-WR-CALNAME:Tangosuerte
X-ORIGINAL-URL:https://tangosuerte.com
X-WR-CALDESC:Events for Tangosuerte
BEGIN:VEVENT
DTSTART;TZID=UTC+0:20181109T200000
DTEND;TZID=UTC+0:20181110T183000
DTSTAMP:20260422T102919
CREATED:20170110T161756Z
LAST-MODIFIED:20190831T083722Z
UID:1448-1541793600-1541874600@tangosuerte.com
SUMMARY:Susana Miller\, Buenos Aires
DESCRIPTION:Susana Miller aus Buenos Aires gilt weltweit als herausragende Vertreterin des "Tango Milonguero". Dieser Stil hat sich während der Goldenen Epoche des Tango in den Salons von Buenos Aires als Essenz des Tango entwickelt.\nSusana Miller ist bekannt für ihren präzisen fokussierten Unterricht\, der den Teilnehmern ermöglicht\, sich der Essenz des Tango zu nähern.\n\n\n\n\nThemen 2020 \nDer Tango als Kultur und als Hauptakteur des Tanzes. Welche Charakteristika besitzt die Musik\, auf die die Milongueros tanzen?\n\n 09. Oktober 2020 FREITAG:\n\n20.00-21.30 DropInClass\, 25€ Inklusive Eintritt\,\n\nMusikalität  : Technique for stopping on one's axis\, milonguero boleo and barrida. Differences between Pugliese and D'Arienzo in the same sequence.\nWith D'Arienzo\, the steps are shorter and there are more double times. Turns  and counter-turns.\n21.30-01.30 Milonga de Epoca\, DJ : Suer\n\n10. Oktober 2020 SAMSTAG :\nEinzelstunde mit Susana Miller möglich\, bitte Termine vereinbaren.\n\n13.00-14.30 FRAUENTECHNIK Männertechnik\, Paartechnik\, Milonguerotechnik\, T1\, 2Termine\,\n\nHier kann jeder teilnehmen\, unabhängig vom Niveau – es spielt auch keine Rolle\, ob Single (Mann oder Frau) oder Paar. Das Ziel dieser Workshops ist die Verbesserung der Tangomilonguero -Technik im Zusammenspiel mit der Musik.\n\nFrauentechnik (auch für Männer) Alle Niveaus\nWie ist die Antwort der Frau auf die Führung des Mannes? Warum verlieren wir das Gleichgewicht? Wie entsteht Präsenz und Leichtheit? Einfache Technik für Vorwärts- und Rückwärtsgehen\, Ocho rückwärts\, Kreuz\, Gleichgewicht auf einem Bein und die Drehung. Wie vermeidet die Frau Fußschmerzen?\nBalance\, presence and connection. Posture\, embrace.\nHow to place your feet on the floor to avoid metatarsal pain. When to bend and extend the knees.\nWalking backwards\, the cross\, back ochos\, walking forward\, turns and pauses\, standing on one leg. A simple\, but fancy\, foot game. We only have 6 movements. To follow\, we have to be "available\," not attentive. We "hear" our body and that of our partner. ( men welcome )\n15.00-16.30 TANGO THE 5 BASICS OF TANGO Alle Niveaus\, T1.\n\nStehen – Gehen – Umarmung – Gleichgewicht – Rhythmus.\nTechniken für gute Zirkulation auf der Tanzfläche. Kleine interessante Varianten für Mann und Frau.\n\n5 basic elements that can be used in tango and waltz to navigate the dance floor with ease. Small\, amusing variations for men and women to make your tango more interesting.\n\n17.00-18.30 MILONGA Alle Niveaus\n\nMit und ohne Traspie. Wie macht und wie führt man den Traspie? Wie beginnt und wie beendet man Traspie?\n\nMilonga\, traspié and walk. A tip for getting into and out of the traspié. Technique for doing the traspié and how to lead it.\n\n21.30-02.00 Milonga de Gala\, Eintritt : 7\,50 €\n\nDJ :  Thomas Schmirler\, Darmstadt\n\n \n\n11. Oktober 2020 SONNTAG:\n13.00-14.30 FRAUENTECHNIK Männertechnik\, Paartechnik\, Milonguerotechnik\, T2\n\nMännertechnik (auch für Frauen) Alle Niveaus\nVerbindung im Paar. Einfache Tips zur Entspannung und für einen sicheren Stand (Es gibt keine spezifische "Tango-Haltung"). Das Gehen\, die Pause\, die Führung der Ochos und die Drehung ohne die Umarmung zu lösen. Was ist der Unterschied zwischen Tango-"de Salón" und Tango-"Milonguero"?\n\n15.00-16.30 TANGO\, THE 5 BASICS OF TANGO Alle Niveaus\, T2.\n\nStehen – Gehen – Umarmung – Gleichgewicht – Rhythmus.\nTechniken für gute Zirkulation auf der Tanzfläche. Kleine interessante Varianten für Mann und Frau.\n\n5 basic elements that can be used in tango and waltz to navigate the dance floor with ease. Small\, amusing variations for men and women to make your tango more interesting.\n\n17.00-18.30 VALS Alle Niveaus\n\nDer rhythmische „Puls“ des Vals. Drehungen und Gegendrehungen\, Voleos. Rückwärtsschritte in Tanzrichtung mit anschließender Drehung in Tanzrichtung.\n\nThe rhythmic pulse of the waltz. Turns and counter-turns\, the boleo and its origin. A backward walk for three steps\, with a turn and change of direction.\n\nPreis : 1WSP=30\, 2WSPs=50\, 4WSPs=100€\nPaketpreis für 6 Workshops pro Person : 120€\n
URL:https://tangosuerte.com/event/susana-miller
CATEGORIES:Gastlehrer,Susana Miller, Buenos Aires
ATTACH;FMTTYPE=image/jpeg:https://tangosuerte.com/wp-content/uploads/2017/08/IMG_20151011_155822.jpg
END:VEVENT
END:VCALENDAR